BEGIN:VCALENDAR
VERSION:2.0
PRODID:LFV Website-Kit
METHOD:PUBLISH
BEGIN:VEVENT
UID:lfv-1308a728-7e73-4555-a5a7-e77805f844b6
LOCATION:Herrnstr. 27 93333 Neustadt
SUMMARY:Atemschutzzentrum Neustadt
DESCRIPTION:Termin Link: http://ff-train.feuerwehren.bayern/termine/atemschutzzentrum-neustadt-3/
URL:http://ff-train.feuerwehren.bayern/termine/atemschutzzentrum-neustadt-3/
CLASS:PRIVATE
DTSTART;TZID=Europe/Berlin:20260925T190000
DTEND;TZID=Europe/Berlin:20260925T200000
DTSTAMP:20260423T033721Z
END:VEVENT
END:VCALENDAR