BEGIN:VCALENDAR
VERSION:2.0
PRODID:LFV Website-Kit
METHOD:PUBLISH
BEGIN:VEVENT
UID:lfv-99af8c42-feae-4311-b5e5-ba28e41b8efb
LOCATION:Sankt Johanner Str. 24c 93358 Train
SUMMARY:Ausbildung Atemschutz
DESCRIPTION:Termin Link: http://ff-train.feuerwehren.bayern/termine/ausbildung-atemschutz/
URL:http://ff-train.feuerwehren.bayern/termine/ausbildung-atemschutz/
CLASS:PRIVATE
DTSTART;TZID=Europe/Berlin:20260521T193000
DTEND;TZID=Europe/Berlin:20260521T203000
DTSTAMP:20260422T000241Z
END:VEVENT
END:VCALENDAR