BEGIN:VCALENDAR
VERSION:2.0
PRODID:LFV Website-Kit
METHOD:PUBLISH
BEGIN:VEVENT
UID:lfv-a079bf7c-b0e9-4789-8422-7d3b6ea8699d
LOCATION:Sankt Johanner Str. 24c 93358 Train
SUMMARY:Ausbildung CSA
DESCRIPTION:Termin Link: http://ff-train.feuerwehren.bayern/termine/ausbildung-csa-1/
URL:http://ff-train.feuerwehren.bayern/termine/ausbildung-csa-1/
CLASS:PRIVATE
DTSTART;TZID=Europe/Berlin:20260611T193000
DTEND;TZID=Europe/Berlin:20260611T203000
DTSTAMP:20260422T031602Z
END:VEVENT
END:VCALENDAR