BEGIN:VCALENDAR
VERSION:2.0
PRODID:LFV Website-Kit
METHOD:PUBLISH
BEGIN:VEVENT
UID:lfv-437175d1-960b-4f47-bcf7-b144a243ac92
LOCATION:Sankt Johanner Str. 24c 93358 Train
SUMMARY:Ausbildung CSA
DESCRIPTION:Termin Link: http://ff-train.feuerwehren.bayern/termine/ausbildung-csa-2/
URL:http://ff-train.feuerwehren.bayern/termine/ausbildung-csa-2/
CLASS:PRIVATE
DTSTART;TZID=Europe/Berlin:20261126T193000
DTEND;TZID=Europe/Berlin:20261126T203000
DTSTAMP:20260423T033258Z
END:VEVENT
END:VCALENDAR