BEGIN:VCALENDAR
VERSION:2.0
PRODID:LFV Website-Kit
METHOD:PUBLISH
BEGIN:VEVENT
UID:lfv-48147723-46aa-477c-8482-337a92f5439b
LOCATION:Sankt Johanner Str. 24c 93358 Train
SUMMARY:Ausbildung CSA
DESCRIPTION:Termin Link: http://ff-train.feuerwehren.bayern/termine/ausbildung-csa/
URL:http://ff-train.feuerwehren.bayern/termine/ausbildung-csa/
CLASS:PRIVATE
DTSTART;TZID=Europe/Berlin:20260507T193000
DTEND;TZID=Europe/Berlin:20260507T203000
DTSTAMP:20260421T160924Z
END:VEVENT
END:VCALENDAR