BEGIN:VCALENDAR
VERSION:2.0
PRODID:LFV Website-Kit
METHOD:PUBLISH
BEGIN:VEVENT
UID:lfv-6aaa2148-3b52-42fa-951e-12e56d80ec4f
LOCATION:Sankt Johanner Str. 24c 93358 Train
SUMMARY:Belastungsübung
DESCRIPTION:Termin Link: http://ff-train.feuerwehren.bayern/termine/belastungsubung/
URL:http://ff-train.feuerwehren.bayern/termine/belastungsubung/
CLASS:PRIVATE
DTSTART;TZID=Europe/Berlin:20260716T193000
DTEND;TZID=Europe/Berlin:20260716T203000
DTSTAMP:20260422T185807Z
END:VEVENT
END:VCALENDAR