BEGIN:VCALENDAR
VERSION:2.0
PRODID:LFV Website-Kit
METHOD:PUBLISH
BEGIN:VEVENT
UID:lfv-3cf8f5d1-3d14-4f87-b8ea-804aae95b6e6
LOCATION:Sankt Johanner Str. 24c 93358 Train
SUMMARY:Beleuchtungsgeräte
DESCRIPTION:Termin Link: http://ff-train.feuerwehren.bayern/termine/beleuchtungsgerate/
URL:http://ff-train.feuerwehren.bayern/termine/beleuchtungsgerate/
CLASS:PRIVATE
DTSTART;TZID=Europe/Berlin:20261123T183000
DTEND;TZID=Europe/Berlin:20261123T193000
DTSTAMP:20260423T033258Z
END:VEVENT
END:VCALENDAR