BEGIN:VCALENDAR
VERSION:2.0
PRODID:LFV Website-Kit
METHOD:PUBLISH
BEGIN:VEVENT
UID:lfv-756ec48d-c42c-4fbe-981a-db44e13e4032
LOCATION:
SUMMARY:Einweisungs-/Übungsfahrt
DESCRIPTION:Termin Link: http://ff-train.feuerwehren.bayern/termine/einweisung-uebungsfahrt/
URL:http://ff-train.feuerwehren.bayern/termine/einweisung-uebungsfahrt/
CLASS:PRIVATE
DTSTART;TZID=Europe/Berlin:20260426T160000
DTEND;TZID=Europe/Berlin:20260426T170000
DTSTAMP:20260421T161017Z
END:VEVENT
END:VCALENDAR