BEGIN:VCALENDAR
VERSION:2.0
PRODID:LFV Website-Kit
METHOD:PUBLISH
BEGIN:VEVENT
UID:lfv-52e9a1c4-3035-4558-b3a5-daa07e149cd2
LOCATION:Sankt Johanner Str. 24c 93358 Train
SUMMARY:Einweisungs-/Übungsfahrt
DESCRIPTION:Termin Link: http://ff-train.feuerwehren.bayern/termine/einweisungs-ubungsfahrt-1/
URL:http://ff-train.feuerwehren.bayern/termine/einweisungs-ubungsfahrt-1/
CLASS:PRIVATE
DTSTART;TZID=Europe/Berlin:20260710T190000
DTEND;TZID=Europe/Berlin:20260710T200000
DTSTAMP:20260422T142319Z
END:VEVENT
END:VCALENDAR