BEGIN:VCALENDAR
VERSION:2.0
PRODID:LFV Website-Kit
METHOD:PUBLISH
BEGIN:VEVENT
UID:lfv-e04b8317-78d2-4cba-9c05-7f11c640ee2d
LOCATION:Sankt Johanner Str. 24c 93358 Train
SUMMARY:Einweisungs-/Übungsfahrt
DESCRIPTION:Termin Link: http://ff-train.feuerwehren.bayern/termine/einweisungs-ubungsfahrt-2/
URL:http://ff-train.feuerwehren.bayern/termine/einweisungs-ubungsfahrt-2/
CLASS:PRIVATE
DTSTART;TZID=Europe/Berlin:20261011T160000
DTEND;TZID=Europe/Berlin:20261011T170000
DTSTAMP:20260423T033812Z
END:VEVENT
END:VCALENDAR