BEGIN:VCALENDAR
VERSION:2.0
PRODID:LFV Website-Kit
METHOD:PUBLISH
BEGIN:VEVENT
UID:lfv-1f93f2b9-44ea-4970-9088-f59f6cd0eca2
LOCATION:Sankt Johanner Str. 24c 93358 Train
SUMMARY:Einweisungs-/Übungsfahrt
DESCRIPTION:Termin Link: http://ff-train.feuerwehren.bayern/termine/einweisungs-ubungsfahrt/
URL:http://ff-train.feuerwehren.bayern/termine/einweisungs-ubungsfahrt/
CLASS:PRIVATE
DTSTART;TZID=Europe/Berlin:20260612T190000
DTEND;TZID=Europe/Berlin:20260612T200000
DTSTAMP:20260422T045455Z
END:VEVENT
END:VCALENDAR