BEGIN:VCALENDAR
VERSION:2.0
PRODID:LFV Website-Kit
METHOD:PUBLISH
BEGIN:VEVENT
UID:lfv-beaf26fd-ad9e-41a3-a288-b44a099aa40d
LOCATION:Sankt Johanner Str. 24c 93358 Train
SUMMARY:Funkübung
DESCRIPTION:Termin Link: http://ff-train.feuerwehren.bayern/termine/funkubung-1/
URL:http://ff-train.feuerwehren.bayern/termine/funkubung-1/
CLASS:PRIVATE
DTSTART;TZID=Europe/Berlin:20261111T193000
DTEND;TZID=Europe/Berlin:20261111T203000
DTSTAMP:20260423T033202Z
END:VEVENT
END:VCALENDAR