BEGIN:VCALENDAR
VERSION:2.0
PRODID:LFV Website-Kit
METHOD:PUBLISH
BEGIN:VEVENT
UID:lfv-c6a20b0a-2ffe-4e48-8636-1eca41e10dcb
LOCATION:Sankt Johanner Str. 24c 93358 Train
SUMMARY:Funkübung
DESCRIPTION:Termin Link: http://ff-train.feuerwehren.bayern/termine/funkubung-2/
URL:http://ff-train.feuerwehren.bayern/termine/funkubung-2/
CLASS:PRIVATE
DTSTART;TZID=Europe/Berlin:20261119T193000
DTEND;TZID=Europe/Berlin:20261119T203000
DTSTAMP:20260423T033207Z
END:VEVENT
END:VCALENDAR