BEGIN:VCALENDAR
VERSION:2.0
PRODID:LFV Website-Kit
METHOD:PUBLISH
BEGIN:VEVENT
UID:lfv-eeb2eaba-5adb-41ec-8ee5-3eef8582f5e8
LOCATION:Sankt Johanner Str. 24c 93358 Train
SUMMARY:Ganztagesübung
DESCRIPTION:Termin Link: http://ff-train.feuerwehren.bayern/termine/ganztagesubung-1/
URL:http://ff-train.feuerwehren.bayern/termine/ganztagesubung-1/
CLASS:PRIVATE
DTSTART;TZID=Europe/Berlin:20261010T100000
DTEND;TZID=Europe/Berlin:20261010T110000
DTSTAMP:20260423T033754Z
END:VEVENT
END:VCALENDAR