BEGIN:VCALENDAR
VERSION:2.0
PRODID:LFV Website-Kit
METHOD:PUBLISH
BEGIN:VEVENT
UID:lfv-d74715e6-ea99-4f7b-a890-72d19fa854b8
LOCATION:Sankt Johanner Str. 24c 93358 Train
SUMMARY:Ganztagesübung
DESCRIPTION:Termin Link: http://ff-train.feuerwehren.bayern/termine/ganztagesubung/
URL:http://ff-train.feuerwehren.bayern/termine/ganztagesubung/
CLASS:PRIVATE
DTSTART;TZID=Europe/Berlin:20260509T100000
DTEND;TZID=Europe/Berlin:20260509T110000
DTSTAMP:20260421T204150Z
END:VEVENT
END:VCALENDAR