BEGIN:VCALENDAR
VERSION:2.0
PRODID:LFV Website-Kit
METHOD:PUBLISH
BEGIN:VEVENT
UID:lfv-e8e60560-4c28-469a-b396-1607d23641e7
LOCATION:Feuerwehrgerätehaus Sankt Johanner Str. 24c 93358 Train
SUMMARY:Gartenfest der Feuerwehr Train
DESCRIPTION:Termin Link: http://ff-train.feuerwehren.bayern/termine/gartenfest-der-feuerwehr-train/
URL:http://ff-train.feuerwehren.bayern/termine/gartenfest-der-feuerwehr-train/
CLASS:PRIVATE
DTSTART;VALUE=DATE:20260604
DTEND;VALUE=DATE:20260604
DTSTAMP:20260422T014615Z
END:VEVENT
END:VCALENDAR