BEGIN:VCALENDAR
VERSION:2.0
PRODID:LFV Website-Kit
METHOD:PUBLISH
BEGIN:VEVENT
UID:lfv-61439a64-053a-49bf-a4ce-d6ddb56f0a91
LOCATION:Sankt Johanner Str. 24c 93358 Train
SUMMARY:Gruppenführerbesprechung
DESCRIPTION:Termin Link: http://ff-train.feuerwehren.bayern/termine/gruppenfuhrerbesprechung-1/
URL:http://ff-train.feuerwehren.bayern/termine/gruppenfuhrerbesprechung-1/
CLASS:PRIVATE
DTSTART;TZID=Europe/Berlin:20260619T193000
DTEND;TZID=Europe/Berlin:20260619T203000
DTSTAMP:20260422T112114Z
END:VEVENT
END:VCALENDAR