BEGIN:VCALENDAR
VERSION:2.0
PRODID:LFV Website-Kit
METHOD:PUBLISH
BEGIN:VEVENT
UID:lfv-95f8edfa-02d5-457c-99bd-5215721b2ea2
LOCATION:Sankt Johanner Str. 24c 93358 Train
SUMMARY:Gruppenführerbesprechung
DESCRIPTION:Termin Link: http://ff-train.feuerwehren.bayern/termine/gruppenfuhrerbesprechung-2/
URL:http://ff-train.feuerwehren.bayern/termine/gruppenfuhrerbesprechung-2/
CLASS:PRIVATE
DTSTART;TZID=Europe/Berlin:20261002T193000
DTEND;TZID=Europe/Berlin:20261002T203000
DTSTAMP:20260423T034434Z
END:VEVENT
END:VCALENDAR