BEGIN:VCALENDAR
VERSION:2.0
PRODID:LFV Website-Kit
METHOD:PUBLISH
BEGIN:VEVENT
UID:lfv-41feba42-eb96-4719-8464-c835bf4e8b7d
LOCATION:Sankt Johanner Str. 24c 93358 Train
SUMMARY:Gruppenführerbesprechung
DESCRIPTION:Termin Link: http://ff-train.feuerwehren.bayern/termine/gruppenfuhrerbesprechung-3/
URL:http://ff-train.feuerwehren.bayern/termine/gruppenfuhrerbesprechung-3/
CLASS:PRIVATE
DTSTART;TZID=Europe/Berlin:20261218T193000
DTEND;TZID=Europe/Berlin:20261218T203000
DTSTAMP:20260423T033839Z
END:VEVENT
END:VCALENDAR