BEGIN:VCALENDAR
VERSION:2.0
PRODID:LFV Website-Kit
METHOD:PUBLISH
BEGIN:VEVENT
UID:lfv-2f23202f-54e7-4877-bacc-b00012d01824
LOCATION:Sankt Johanner Str. 24c 93358 Train
SUMMARY:Hebekissen und Überdruckbelüftung
DESCRIPTION:Termin Link: http://ff-train.feuerwehren.bayern/termine/hebekissen-und-uberdruckbeluftung/
URL:http://ff-train.feuerwehren.bayern/termine/hebekissen-und-uberdruckbeluftung/
CLASS:PRIVATE
DTSTART;TZID=Europe/Berlin:20260921T183000
DTEND;TZID=Europe/Berlin:20260921T193000
DTSTAMP:20260423T023635Z
END:VEVENT
END:VCALENDAR