BEGIN:VCALENDAR
VERSION:2.0
PRODID:LFV Website-Kit
METHOD:PUBLISH
BEGIN:VEVENT
UID:lfv-f5a3a2fd-c9b5-4c70-9207-3f478f050ae2
LOCATION:Sankt Johanner Str. 24c 93358 Train
SUMMARY:Kameradschaftsabend
DESCRIPTION:Termin Link: http://ff-train.feuerwehren.bayern/termine/kameradschaftsabend-2/
URL:http://ff-train.feuerwehren.bayern/termine/kameradschaftsabend-2/
CLASS:PRIVATE
DTSTART;TZID=Europe/Berlin:20260508T200000
DTEND;TZID=Europe/Berlin:20260508T210000
DTSTAMP:20260421T174235Z
END:VEVENT
END:VCALENDAR