BEGIN:VCALENDAR
VERSION:2.0
PRODID:LFV Website-Kit
METHOD:PUBLISH
BEGIN:VEVENT
UID:lfv-19a7a6bb-0189-4744-bc57-8a275965fd18
LOCATION:Sankt Johanner Str. 24c 93358 Train
SUMMARY:Kameradschaftsabend
DESCRIPTION:Termin Link: http://ff-train.feuerwehren.bayern/termine/kameradschaftsabend-3/
URL:http://ff-train.feuerwehren.bayern/termine/kameradschaftsabend-3/
CLASS:PRIVATE
DTSTART;TZID=Europe/Berlin:20260612T200000
DTEND;TZID=Europe/Berlin:20260612T210000
DTSTAMP:20260422T065138Z
END:VEVENT
END:VCALENDAR