BEGIN:VCALENDAR
VERSION:2.0
PRODID:LFV Website-Kit
METHOD:PUBLISH
BEGIN:VEVENT
UID:lfv-fe66455d-330e-4427-8b70-be387fb18bd6
LOCATION:Sankt Johanner Str. 24c 93358 Train
SUMMARY:Kameradschaftsabend
DESCRIPTION:Termin Link: http://ff-train.feuerwehren.bayern/termine/kameradschaftsabend-4/
URL:http://ff-train.feuerwehren.bayern/termine/kameradschaftsabend-4/
CLASS:PRIVATE
DTSTART;TZID=Europe/Berlin:20260710T200000
DTEND;TZID=Europe/Berlin:20260710T210000
DTSTAMP:20260422T155257Z
END:VEVENT
END:VCALENDAR