BEGIN:VCALENDAR
VERSION:2.0
PRODID:LFV Website-Kit
METHOD:PUBLISH
BEGIN:VEVENT
UID:lfv-392c66a9-3508-4ef2-bbbd-4070f99451a3
LOCATION:Sankt Johanner Str. 24c 93358 Train
SUMMARY:Kameradschaftsabend
DESCRIPTION:Termin Link: http://ff-train.feuerwehren.bayern/termine/kameradschaftsabend-5/
URL:http://ff-train.feuerwehren.bayern/termine/kameradschaftsabend-5/
CLASS:PRIVATE
DTSTART;TZID=Europe/Berlin:20260911T200000
DTEND;TZID=Europe/Berlin:20260911T210000
DTSTAMP:20260422T233135Z
END:VEVENT
END:VCALENDAR