BEGIN:VCALENDAR
VERSION:2.0
PRODID:LFV Website-Kit
METHOD:PUBLISH
BEGIN:VEVENT
UID:lfv-5eda40cc-7a80-416e-8871-f0628617609f
LOCATION:Sankt Johanner Str. 24c 93358 Train
SUMMARY:Kameradschaftsabend
DESCRIPTION:Termin Link: http://ff-train.feuerwehren.bayern/termine/kameradschaftsabend-6/
URL:http://ff-train.feuerwehren.bayern/termine/kameradschaftsabend-6/
CLASS:PRIVATE
DTSTART;TZID=Europe/Berlin:20261009T200000
DTEND;TZID=Europe/Berlin:20261009T210000
DTSTAMP:20260423T033456Z
END:VEVENT
END:VCALENDAR