BEGIN:VCALENDAR
VERSION:2.0
PRODID:LFV Website-Kit
METHOD:PUBLISH
BEGIN:VEVENT
UID:lfv-a7a822e9-63e7-4a52-a846-b539bebd5516
LOCATION:Sankt Johanner Str. 24c 93358 Train
SUMMARY:Kameradschaftsabend
DESCRIPTION:Termin Link: http://ff-train.feuerwehren.bayern/termine/kameradschaftsabend-7/
URL:http://ff-train.feuerwehren.bayern/termine/kameradschaftsabend-7/
CLASS:PRIVATE
DTSTART;TZID=Europe/Berlin:20261113T200000
DTEND;TZID=Europe/Berlin:20261113T210000
DTSTAMP:20260423T033333Z
END:VEVENT
END:VCALENDAR