BEGIN:VCALENDAR
VERSION:2.0
PRODID:LFV Website-Kit
METHOD:PUBLISH
BEGIN:VEVENT
UID:lfv-6130f317-d1d8-456d-a3b1-fdcb696f4030
LOCATION:Sankt Johanner Str. 24c 93358 Train
SUMMARY:Knoten und Stich
DESCRIPTION:Termin Link: http://ff-train.feuerwehren.bayern/termine/knoten-und-stich/
URL:http://ff-train.feuerwehren.bayern/termine/knoten-und-stich/
CLASS:PRIVATE
DTSTART;TZID=Europe/Berlin:20261207T183000
DTEND;TZID=Europe/Berlin:20261207T193000
DTSTAMP:20260423T033603Z
END:VEVENT
END:VCALENDAR