BEGIN:VCALENDAR
VERSION:2.0
PRODID:LFV Website-Kit
METHOD:PUBLISH
BEGIN:VEVENT
UID:lfv-d83edeb3-d28c-40c4-9061-07c14713f07b
LOCATION:Sankt Johanner Str. 24c 93358 Train
SUMMARY:Leistungsabzeichen Löschaufbau
DESCRIPTION:Termin Link: http://ff-train.feuerwehren.bayern/termine/leistungsabzeichen-loschaufbau/
URL:http://ff-train.feuerwehren.bayern/termine/leistungsabzeichen-loschaufbau/
CLASS:PRIVATE
DTSTART;TZID=Europe/Berlin:20260622T193000
DTEND;TZID=Europe/Berlin:20260622T203000
DTSTAMP:20260422T125634Z
END:VEVENT
END:VCALENDAR