BEGIN:VCALENDAR
VERSION:2.0
PRODID:LFV Website-Kit
METHOD:PUBLISH
BEGIN:VEVENT
UID:lfv-ddca4567-ac82-4888-9f49-326ac73af157
LOCATION:Sankt Johanner Str. 24c 93358 Train
SUMMARY:Löschaufbau
DESCRIPTION:Termin Link: http://ff-train.feuerwehren.bayern/termine/loschaufbau-1/
URL:http://ff-train.feuerwehren.bayern/termine/loschaufbau-1/
CLASS:PRIVATE
DTSTART;TZID=Europe/Berlin:20260713T183000
DTEND;TZID=Europe/Berlin:20260713T193000
DTSTAMP:20260422T172746Z
END:VEVENT
END:VCALENDAR