BEGIN:VCALENDAR
VERSION:2.0
PRODID:LFV Website-Kit
METHOD:PUBLISH
BEGIN:VEVENT
UID:lfv-335bfcbf-e5a3-4170-a732-09cf80ec7e9a
LOCATION:Sankt Johanner Str. 24c 93358 Train
SUMMARY:Löschaufbau
DESCRIPTION:Termin Link: http://ff-train.feuerwehren.bayern/termine/loschaufbau-2/
URL:http://ff-train.feuerwehren.bayern/termine/loschaufbau-2/
CLASS:PRIVATE
DTSTART;TZID=Europe/Berlin:20260722T193000
DTEND;TZID=Europe/Berlin:20260722T203000
DTSTAMP:20260422T202857Z
END:VEVENT
END:VCALENDAR