BEGIN:VCALENDAR
VERSION:2.0
PRODID:LFV Website-Kit
METHOD:PUBLISH
BEGIN:VEVENT
UID:lfv-47397eb1-4642-46ee-ace8-2cd0d2d1847c
LOCATION:Sankt Johanner Str. 24c 93358 Train
SUMMARY:Löschaufbau
DESCRIPTION:Termin Link: http://ff-train.feuerwehren.bayern/termine/loschaufbau-3/
URL:http://ff-train.feuerwehren.bayern/termine/loschaufbau-3/
CLASS:PRIVATE
DTSTART;TZID=Europe/Berlin:20260730T193000
DTEND;TZID=Europe/Berlin:20260730T203000
DTSTAMP:20260422T215813Z
END:VEVENT
END:VCALENDAR