BEGIN:VCALENDAR
VERSION:2.0
PRODID:LFV Website-Kit
METHOD:PUBLISH
BEGIN:VEVENT
UID:lfv-f78111c8-9ab6-4fe3-a2f9-91f7377705d2
LOCATION:Sankt Johanner Str. 24c 93358 Train
SUMMARY:Löschaufbau
DESCRIPTION:Termin Link: http://ff-train.feuerwehren.bayern/termine/loschaufbau/
URL:http://ff-train.feuerwehren.bayern/termine/loschaufbau/
CLASS:PRIVATE
DTSTART;TZID=Europe/Berlin:20260518T183000
DTEND;TZID=Europe/Berlin:20260518T193000
DTSTAMP:20260421T222913Z
END:VEVENT
END:VCALENDAR