BEGIN:VCALENDAR
VERSION:2.0
PRODID:LFV Website-Kit
METHOD:PUBLISH
BEGIN:VEVENT
UID:lfv-07cecbe5-a32a-4bf1-92d6-4d746b40d527
LOCATION:Sankt Johanner Str. 24c 93358 Train
SUMMARY:Maschinistenübung
DESCRIPTION:Termin Link: http://ff-train.feuerwehren.bayern/termine/maschinistenubung-1/
URL:http://ff-train.feuerwehren.bayern/termine/maschinistenubung-1/
CLASS:PRIVATE
DTSTART;TZID=Europe/Berlin:20260917T193000
DTEND;TZID=Europe/Berlin:20260917T203000
DTSTAMP:20260423T010923Z
END:VEVENT
END:VCALENDAR