BEGIN:VCALENDAR
VERSION:2.0
PRODID:LFV Website-Kit
METHOD:PUBLISH
BEGIN:VEVENT
UID:lfv-0e0b561f-fa0b-4011-a35b-71961bb41da8
LOCATION:Sankt Johanner Str. 24c 93358 Train
SUMMARY:Maschinistenübung
DESCRIPTION:Termin Link: http://ff-train.feuerwehren.bayern/termine/maschinistenubung/
URL:http://ff-train.feuerwehren.bayern/termine/maschinistenubung/
CLASS:PRIVATE
DTSTART;TZID=Europe/Berlin:20260505T193000
DTEND;TZID=Europe/Berlin:20260505T203000
DTSTAMP:20260421T161042Z
END:VEVENT
END:VCALENDAR