BEGIN:VCALENDAR
VERSION:2.0
PRODID:LFV Website-Kit
METHOD:PUBLISH
BEGIN:VEVENT
UID:lfv-74ad072d-d2c1-4a7b-9ee5-735a19f90636
LOCATION:Sankt Johanner Str. 24c 93358 Train
SUMMARY:San-Übung
DESCRIPTION:Termin Link: http://ff-train.feuerwehren.bayern/termine/san-ubung-1/
URL:http://ff-train.feuerwehren.bayern/termine/san-ubung-1/
CLASS:PRIVATE
DTSTART;TZID=Europe/Berlin:20260617T193000
DTEND;TZID=Europe/Berlin:20260617T203000
DTSTAMP:20260422T094230Z
END:VEVENT
END:VCALENDAR