BEGIN:VCALENDAR
VERSION:2.0
PRODID:LFV Website-Kit
METHOD:PUBLISH
BEGIN:VEVENT
UID:lfv-12f70beb-b0dc-4ea1-b106-b2760aaf8d49
LOCATION:Sankt Johanner Str. 24c 93358 Train
SUMMARY:San-Übung
DESCRIPTION:Termin Link: http://ff-train.feuerwehren.bayern/termine/san-ubung-2/
URL:http://ff-train.feuerwehren.bayern/termine/san-ubung-2/
CLASS:PRIVATE
DTSTART;TZID=Europe/Berlin:20260923T193000
DTEND;TZID=Europe/Berlin:20260923T203000
DTSTAMP:20260423T033333Z
END:VEVENT
END:VCALENDAR