BEGIN:VCALENDAR
VERSION:2.0
PRODID:LFV Website-Kit
METHOD:PUBLISH
BEGIN:VEVENT
UID:lfv-779b6d5f-d4e7-44f5-9db6-b9ad98fdda32
LOCATION:Sankt Johanner Str. 24c 93358 Train
SUMMARY:San-Übung
DESCRIPTION:Termin Link: http://ff-train.feuerwehren.bayern/termine/san-ubung-3/
URL:http://ff-train.feuerwehren.bayern/termine/san-ubung-3/
CLASS:PRIVATE
DTSTART;TZID=Europe/Berlin:20261118T193000
DTEND;TZID=Europe/Berlin:20261118T203000
DTSTAMP:20260423T033500Z
END:VEVENT
END:VCALENDAR