BEGIN:VCALENDAR
VERSION:2.0
PRODID:LFV Website-Kit
METHOD:PUBLISH
BEGIN:VEVENT
UID:lfv-13b897b0-5817-4c51-90f2-f29b83cdaeb8
LOCATION:Sankt Johanner Str. 24c 93358 Train
SUMMARY:San-Übung
DESCRIPTION:Termin Link: http://ff-train.feuerwehren.bayern/termine/san-ubung-5/
URL:http://ff-train.feuerwehren.bayern/termine/san-ubung-5/
CLASS:PRIVATE
DTSTART;TZID=Europe/Berlin:20261209T193000
DTEND;TZID=Europe/Berlin:20261209T203000
DTSTAMP:20260423T033654Z
END:VEVENT
END:VCALENDAR