BEGIN:VCALENDAR
VERSION:2.0
PRODID:LFV Website-Kit
METHOD:PUBLISH
BEGIN:VEVENT
UID:lfv-9b5b99fc-a7a9-41d6-82b7-337b83a4aafa
LOCATION:Sankt Johanner Str. 24c 93358 Train
SUMMARY:Technische Hilfeleistung
DESCRIPTION:Termin Link: http://ff-train.feuerwehren.bayern/termine/technische-hilfeleistung-1/
URL:http://ff-train.feuerwehren.bayern/termine/technische-hilfeleistung-1/
CLASS:PRIVATE
DTSTART;TZID=Europe/Berlin:20260929T193000
DTEND;TZID=Europe/Berlin:20260929T203000
DTSTAMP:20260423T033706Z
END:VEVENT
END:VCALENDAR