BEGIN:VCALENDAR
VERSION:2.0
PRODID:LFV Website-Kit
METHOD:PUBLISH
BEGIN:VEVENT
UID:lfv-da976c16-0d85-4dc2-b79f-e5ce392625c2
LOCATION:Sankt Johanner Str. 24c 93358 Train
SUMMARY:Technische Hilfeleistung
DESCRIPTION:Termin Link: http://ff-train.feuerwehren.bayern/termine/technische-hilfeleistung-2/
URL:http://ff-train.feuerwehren.bayern/termine/technische-hilfeleistung-2/
CLASS:PRIVATE
DTSTART;TZID=Europe/Berlin:20260930T193000
DTEND;TZID=Europe/Berlin:20260930T203000
DTSTAMP:20260423T033619Z
END:VEVENT
END:VCALENDAR