BEGIN:VCALENDAR
VERSION:2.0
PRODID:LFV Website-Kit
METHOD:PUBLISH
BEGIN:VEVENT
UID:lfv-5814891d-a6ef-4e47-affc-54203406edcf
LOCATION:Sankt Johanner Str. 24c 93358 Train
SUMMARY:Technische Hilfeleistung
DESCRIPTION:Termin Link: http://ff-train.feuerwehren.bayern/termine/technische-hilfeleistung/
URL:http://ff-train.feuerwehren.bayern/termine/technische-hilfeleistung/
CLASS:PRIVATE
DTSTART;TZID=Europe/Berlin:20260615T183000
DTEND;TZID=Europe/Berlin:20260615T193000
DTSTAMP:20260422T081928Z
END:VEVENT
END:VCALENDAR