BEGIN:VCALENDAR
VERSION:2.0
PRODID:LFV Website-Kit
METHOD:PUBLISH
BEGIN:VEVENT
UID:lfv-ecbbc17f-593c-41fc-bdd8-35bb71663251
LOCATION:Sankt Johanner Str. 24c 93358 Train
SUMMARY:Vorbereitung Jugendwissenstest
DESCRIPTION:Termin Link: http://ff-train.feuerwehren.bayern/termine/vorbereitung-jugendwissenstest/
URL:http://ff-train.feuerwehren.bayern/termine/vorbereitung-jugendwissenstest/
CLASS:PRIVATE
DTSTART;TZID=Europe/Berlin:20261019T183000
DTEND;TZID=Europe/Berlin:20261019T193000
DTSTAMP:20260423T033904Z
END:VEVENT
END:VCALENDAR